BEGIN:VCALENDAR
VERSION:2.0
PRODID:-//Per la conca - ECPv6.11.0.1//NONSGML v1.0//EN
CALSCALE:GREGORIAN
METHOD:PUBLISH
X-WR-CALNAME:Per la conca
X-ORIGINAL-URL:https://perlaconca.org
X-WR-CALDESC:Esdeveniments per Per la conca
REFRESH-INTERVAL;VALUE=DURATION:PT1H
X-Robots-Tag:noindex
X-PUBLISHED-TTL:PT1H
BEGIN:VTIMEZONE
TZID:Europe/Helsinki
BEGIN:DAYLIGHT
TZOFFSETFROM:+0200
TZOFFSETTO:+0300
TZNAME:EEST
DTSTART:20230326T010000
END:DAYLIGHT
BEGIN:STANDARD
TZOFFSETFROM:+0300
TZOFFSETTO:+0200
TZNAME:EET
DTSTART:20231029T010000
END:STANDARD
END:VTIMEZONE
BEGIN:VEVENT
DTSTART;TZID=Europe/Helsinki:20230109T100000
DTEND;TZID=Europe/Helsinki:20230129T203000
DTSTAMP:20260424T024636
CREATED:20230104T203749Z
LAST-MODIFIED:20230104T203749Z
UID:1663-1673258400-1675024200@perlaconca.org
SUMMARY:Exposició "Defensem la terra\, preservem l'Anoia"
DESCRIPTION:Vine a l’exposició “Defensem la terra\, preservem l’Anoia” que han preparat els veïns afectats i les entitats mediambientalistes del territori sobre l’allau de macroprojectes per produir energia fotovoltaica i eòlica a l’Anoia. Uns projectes de companyies de l’oligopoli elèctric per exportar l’energia cap Europa i que alteren de manera dràstica el nostre hàbitat. Exageració? Visiteu l’exposició i opineu vosaltres mateixos. \nDel 9 al 29 de gener a la Biblioteca Central d’Igualada.
URL:https://perlaconca.org/calendari/exposicio-defensem-la-terra-preservem-lanoia-2/
LOCATION:Biblioteca Central d’Igualada\, Plaça de cal Font\, Igualada
ATTACH;FMTTYPE=image/png:https://perlaconca.org/wp-content/uploads/2023/01/Captura-de-Pantalla-2023-01-04-a-las-21.06.48.png
END:VEVENT
END:VCALENDAR