BEGIN:VCALENDAR
VERSION:2.0
PRODID:-//Per la conca - ECPv6.11.0.1//NONSGML v1.0//EN
CALSCALE:GREGORIAN
METHOD:PUBLISH
X-ORIGINAL-URL:https://perlaconca.org
X-WR-CALDESC:Esdeveniments per Per la conca
REFRESH-INTERVAL;VALUE=DURATION:PT1H
X-Robots-Tag:noindex
X-PUBLISHED-TTL:PT1H
BEGIN:VTIMEZONE
TZID:Europe/Helsinki
BEGIN:DAYLIGHT
TZOFFSETFROM:+0200
TZOFFSETTO:+0300
TZNAME:EEST
DTSTART:20220327T010000
END:DAYLIGHT
BEGIN:STANDARD
TZOFFSETFROM:+0300
TZOFFSETTO:+0200
TZNAME:EET
DTSTART:20221030T010000
END:STANDARD
END:VTIMEZONE
BEGIN:VEVENT
DTSTART;TZID=Europe/Helsinki:20221202T193000
DTEND;TZID=Europe/Helsinki:20221202T210000
DTSTAMP:20260424T024103
CREATED:20221130T173252Z
LAST-MODIFIED:20221130T173252Z
UID:1346-1670009400-1670014800@perlaconca.org
SUMMARY:Acte de presentació d'Impuls sostenible
DESCRIPTION:El divendres 2 de desembre es durà a terme la presentació de propostes de les entitats ambientalistes per la Conca d’Òdena\, que afirmen que cal un impuls sostenible\, amb l’objectiu d’iniciar noves dinàmiques en les polítiques mediambientals del territori. Vine a escoltar propostes i a dir la teva!
URL:https://perlaconca.org/calendari/acte-de-presentacio-dimpuls-sostenible/
LOCATION:Centre Cívic Nord\, Carrer de Sant Martí de Tous\, 6\, Igualada\, Barcelona\, 08700
ATTACH;FMTTYPE=image/jpeg:https://perlaconca.org/wp-content/uploads/2022/11/impuls_sostenible.jpeg
END:VEVENT
END:VCALENDAR