BEGIN:VCALENDAR
VERSION:2.0
PRODID:-//Per la conca - ECPv6.11.0.1//NONSGML v1.0//EN
CALSCALE:GREGORIAN
METHOD:PUBLISH
X-ORIGINAL-URL:https://perlaconca.org
X-WR-CALDESC:Esdeveniments per Per la conca
REFRESH-INTERVAL;VALUE=DURATION:PT1H
X-Robots-Tag:noindex
X-PUBLISHED-TTL:PT1H
BEGIN:VTIMEZONE
TZID:Europe/Helsinki
BEGIN:DAYLIGHT
TZOFFSETFROM:+0200
TZOFFSETTO:+0300
TZNAME:EEST
DTSTART:20220327T010000
END:DAYLIGHT
BEGIN:STANDARD
TZOFFSETFROM:+0300
TZOFFSETTO:+0200
TZNAME:EET
DTSTART:20221030T010000
END:STANDARD
END:VTIMEZONE
BEGIN:VEVENT
DTSTART;TZID=Europe/Helsinki:20220322T090000
DTEND;TZID=Europe/Helsinki:20220402T210000
DTSTAMP:20260424T185020
CREATED:20220319T115939Z
LAST-MODIFIED:20220319T115939Z
UID:1079-1647939600-1648933200@perlaconca.org
SUMMARY:VIII Congrés d'Art i Paisatge Vitivinícola
DESCRIPTION:El paisatge vitivinícola engloba tot l’ecosistema del nostre entorn: muntanyes\, boscos\, camps\, pobles\, rius… i l’aigua és el bé que estructura del territori. Durant segles\, l’accés a zones amb aigua era indispensable\, però amb el pas del temps tots els serveis que feia el riu s’han anat reemplaçant amb xarxes d’aigua externes\, altres fonts d’energia\, clavegueram i transport terrestre. El riu\, que va ser el centre neuràlgic\, ha caigut en l’oblit. Tot això\, sumat a la situació d’emergència climàtica que estem patint\, fa més evident la importància de fixar-se en el cicle de l’aigua i en els canvis que està experimentant. El Congrés d’Art i Paisatge vol aportar punts de reflexió i debat sobre com afrontar el futur de l’aigua i la seva gestió en el paisatge del Penedès.
URL:https://perlaconca.org/calendari/viii-congres-dart-i-paisatge-vitivinicola/
LOCATION:Sala d’actes del VINSEUM\, Vilafranca del Penedès
ATTACH;FMTTYPE=image/png:https://perlaconca.org/wp-content/uploads/2022/03/Captura-de-pantalla-2022-03-19-a-las-12.24.48.png
END:VEVENT
END:VCALENDAR