BEGIN:VCALENDAR
VERSION:2.0
PRODID:-//Per la conca - ECPv6.11.0.1//NONSGML v1.0//EN
CALSCALE:GREGORIAN
METHOD:PUBLISH
X-ORIGINAL-URL:https://perlaconca.org
X-WR-CALDESC:Esdeveniments per Per la conca
REFRESH-INTERVAL;VALUE=DURATION:PT1H
X-Robots-Tag:noindex
X-PUBLISHED-TTL:PT1H
BEGIN:VTIMEZONE
TZID:Europe/Helsinki
BEGIN:DAYLIGHT
TZOFFSETFROM:+0200
TZOFFSETTO:+0300
TZNAME:EEST
DTSTART:20230326T010000
END:DAYLIGHT
BEGIN:STANDARD
TZOFFSETFROM:+0300
TZOFFSETTO:+0200
TZNAME:EET
DTSTART:20231029T010000
END:STANDARD
END:VTIMEZONE
BEGIN:VEVENT
DTSTART;TZID=Europe/Helsinki:20230226T113000
DTEND;TZID=Europe/Helsinki:20230226T133000
DTSTAMP:20260424T005937
CREATED:20230224T112350Z
LAST-MODIFIED:20230224T112350Z
UID:1702-1677411000-1677418200@perlaconca.org
SUMMARY:Taller "Guardians de la Terra"
DESCRIPTION:Vols aprendre\, a través de la teva càmera fotogràfica o el teu mòbil\, a narrar històries per a visibilitzar problemes mediambientals del teu entorn? \nEls fotoperiodistes Ofèlia de Pablo i Javier Zurita t’ensenyaran a conèixer i estimar la terra i a capturar històries\, perquè sàpigues la importància de protegir-la i et converteixis en actor del canvi.
URL:https://perlaconca.org/calendari/taller-guardians-de-la-terra/
LOCATION:Museu de la pell\, Igualada\, Barcelona\, 08700\, Espanya
ATTACH;FMTTYPE=image/png:https://perlaconca.org/wp-content/uploads/2023/02/Captura-de-pantalla-2023-02-24-a-las-12.19.27.png
END:VEVENT
END:VCALENDAR