BEGIN:VCALENDAR
VERSION:2.0
PRODID:-//Per la conca - ECPv6.11.0.1//NONSGML v1.0//EN
CALSCALE:GREGORIAN
METHOD:PUBLISH
X-WR-CALNAME:Per la conca
X-ORIGINAL-URL:https://perlaconca.org
X-WR-CALDESC:Esdeveniments per Per la conca
REFRESH-INTERVAL;VALUE=DURATION:PT1H
X-Robots-Tag:noindex
X-PUBLISHED-TTL:PT1H
BEGIN:VTIMEZONE
TZID:Europe/Helsinki
BEGIN:DAYLIGHT
TZOFFSETFROM:+0200
TZOFFSETTO:+0300
TZNAME:EEST
DTSTART:20220327T010000
END:DAYLIGHT
BEGIN:STANDARD
TZOFFSETFROM:+0300
TZOFFSETTO:+0200
TZNAME:EET
DTSTART:20221030T010000
END:STANDARD
END:VTIMEZONE
BEGIN:VEVENT
DTSTART;TZID=Europe/Helsinki:20220630T090000
DTEND;TZID=Europe/Helsinki:20220703T190000
DTSTAMP:20260423T131921
CREATED:20220530T183314Z
LAST-MODIFIED:20220530T183345Z
UID:1185-1656579600-1656874800@perlaconca.org
SUMMARY:XIII Festival de Llegendes de Catalunya
DESCRIPTION:Del 30 de juny al 3 de juliol arriba el Festival de Llegendes de Catalunya a Sant Martí de Tous\, que omplirà tots els espais\, els carrers i les places del poble d’històries.
URL:https://perlaconca.org/calendari/xiii-festival-de-llegendes-de-catalunya/
LOCATION:Sant Marti de Tous
ATTACH;FMTTYPE=image/jpeg:https://perlaconca.org/wp-content/uploads/2022/05/dellegendes.jpeg
END:VEVENT
END:VCALENDAR